BEGIN:VCALENDAR
VERSION:2.0
PRODID:-//Midland Teen Court - ECPv6.15.11//NONSGML v1.0//EN
CALSCALE:GREGORIAN
METHOD:PUBLISH
X-ORIGINAL-URL:https://midlandteencourt.net
X-WR-CALDESC:Events for Midland Teen Court
REFRESH-INTERVAL;VALUE=DURATION:PT1H
X-Robots-Tag:noindex
X-PUBLISHED-TTL:PT1H
BEGIN:VTIMEZONE
TZID:UTC
BEGIN:STANDARD
TZOFFSETFROM:+0000
TZOFFSETTO:+0000
TZNAME:UTC
DTSTART:20250101T000000
END:STANDARD
END:VTIMEZONE
BEGIN:VTIMEZONE
TZID:America/Chicago
BEGIN:DAYLIGHT
TZOFFSETFROM:-0600
TZOFFSETTO:-0500
TZNAME:CDT
DTSTART:20250309T080000
END:DAYLIGHT
BEGIN:STANDARD
TZOFFSETFROM:-0500
TZOFFSETTO:-0600
TZNAME:CST
DTSTART:20251102T070000
END:STANDARD
BEGIN:DAYLIGHT
TZOFFSETFROM:-0600
TZOFFSETTO:-0500
TZNAME:CDT
DTSTART:20260308T080000
END:DAYLIGHT
BEGIN:STANDARD
TZOFFSETFROM:-0500
TZOFFSETTO:-0600
TZNAME:CST
DTSTART:20261101T070000
END:STANDARD
BEGIN:DAYLIGHT
TZOFFSETFROM:-0600
TZOFFSETTO:-0500
TZNAME:CDT
DTSTART:20270314T080000
END:DAYLIGHT
BEGIN:STANDARD
TZOFFSETFROM:-0500
TZOFFSETTO:-0600
TZNAME:CST
DTSTART:20271107T070000
END:STANDARD
END:VTIMEZONE
BEGIN:VEVENT
DTSTART;TZID=UTC:20260518T163000
DTEND;TZID=UTC:20260518T190000
DTSTAMP:20260424T093343
CREATED:20250507T185932Z
LAST-MODIFIED:20250507T185932Z
UID:10000600-1779121800-1779130800@midlandteencourt.net
SUMMARY:Court Session
DESCRIPTION:Check-in begins at 4:30 PM | Court begins at 5:00 PM \nRemember and follow the Dress Code: \n\nNo derogatory or inappropriate t-shirts\nNo shorts\nNo ripped jeans\nNo sweat pants\nNo halter tops\, tank tops\, spaghetti straps or bare midriffs\nNo hats\nAppearance should be neat and clean\nSkirts or dresses should be no shorter than 3 inches above the knee\nPants must not be worn lower than the waist\n\nCell phones must be powered off and turned in. They will be returned at the end of the night. \nExemplary behavior is required.
URL:https://midlandteencourt.net/event/court-session-74/
LOCATION:Midland County Courthouse\, 500 N. Loraine\, Midland\, TX\, 79701\, United States
CATEGORIES:Court Sessions
END:VEVENT
BEGIN:VEVENT
DTSTART;TZID=UTC:20260608T163000
DTEND;TZID=UTC:20260608T190000
DTSTAMP:20260424T093343
CREATED:20250507T190019Z
LAST-MODIFIED:20250507T190019Z
UID:10000601-1780936200-1780945200@midlandteencourt.net
SUMMARY:Court Session
DESCRIPTION:Check-in begins at 4:30 PM | Court begins at 5:00 PM \nRemember and follow the Dress Code: \n\nNo derogatory or inappropriate t-shirts\nNo shorts\nNo ripped jeans\nNo sweat pants\nNo halter tops\, tank tops\, spaghetti straps or bare midriffs\nNo hats\nAppearance should be neat and clean\nSkirts or dresses should be no shorter than 3 inches above the knee\nPants must not be worn lower than the waist\n\nCell phones must be powered off and turned in. They will be returned at the end of the night. \nExemplary behavior is required.
URL:https://midlandteencourt.net/event/court-session-75/
LOCATION:Midland County Courthouse\, 500 N. Loraine\, Midland\, TX\, 79701\, United States
CATEGORIES:Court Sessions
END:VEVENT
BEGIN:VEVENT
DTSTART;TZID=UTC:20260615T163000
DTEND;TZID=UTC:20260615T190000
DTSTAMP:20260424T093343
CREATED:20250507T190041Z
LAST-MODIFIED:20250507T190041Z
UID:10000602-1781541000-1781550000@midlandteencourt.net
SUMMARY:Court Session
DESCRIPTION:Check-in begins at 4:30 PM | Court begins at 5:00 PM \nRemember and follow the Dress Code: \n\nNo derogatory or inappropriate t-shirts\nNo shorts\nNo ripped jeans\nNo sweat pants\nNo halter tops\, tank tops\, spaghetti straps or bare midriffs\nNo hats\nAppearance should be neat and clean\nSkirts or dresses should be no shorter than 3 inches above the knee\nPants must not be worn lower than the waist\n\nCell phones must be powered off and turned in. They will be returned at the end of the night. \nExemplary behavior is required.
URL:https://midlandteencourt.net/event/court-session-76/
LOCATION:Midland County Courthouse\, 500 N. Loraine\, Midland\, TX\, 79701\, United States
CATEGORIES:Court Sessions
END:VEVENT
BEGIN:VEVENT
DTSTART;TZID=UTC:20260629T163000
DTEND;TZID=UTC:20260629T190000
DTSTAMP:20260424T093343
CREATED:20250507T190059Z
LAST-MODIFIED:20250507T190059Z
UID:10000603-1782750600-1782759600@midlandteencourt.net
SUMMARY:Court Session
DESCRIPTION:Check-in begins at 4:30 PM | Court begins at 5:00 PM \nRemember and follow the Dress Code: \n\nNo derogatory or inappropriate t-shirts\nNo shorts\nNo ripped jeans\nNo sweat pants\nNo halter tops\, tank tops\, spaghetti straps or bare midriffs\nNo hats\nAppearance should be neat and clean\nSkirts or dresses should be no shorter than 3 inches above the knee\nPants must not be worn lower than the waist\n\nCell phones must be powered off and turned in. They will be returned at the end of the night. \nExemplary behavior is required.
URL:https://midlandteencourt.net/event/court-session-77/
LOCATION:Midland County Courthouse\, 500 N. Loraine\, Midland\, TX\, 79701\, United States
CATEGORIES:Court Sessions
END:VEVENT
BEGIN:VEVENT
DTSTART;TZID=America/Chicago:20260713T163000
DTEND;TZID=America/Chicago:20260713T190000
DTSTAMP:20260424T093343
CREATED:20251021T231046Z
LAST-MODIFIED:20251021T231046Z
UID:10000754-1783960200-1783969200@midlandteencourt.net
SUMMARY:Court Session
DESCRIPTION:Check-in begins at 4:30 PM | Court begins at 5:00 PM \nRemember and follow the Dress Code: \n\nNo derogatory or inappropriate t-shirts\nNo shorts\nNo ripped jeans\nNo sweat pants\nNo halter tops\, tank tops\, spaghetti straps or bare midriffs\nNo hats\nAppearance should be neat and clean\nSkirts or dresses should be no shorter than 3 inches above the knee\nPants must not be worn lower than the waist\n\nCell phones must be powered off and turned in. They will be returned at the end of the night. \nExemplary behavior is required.
URL:https://midlandteencourt.net/event/court-session-78/
LOCATION:TX
CATEGORIES:Court Sessions
END:VEVENT
BEGIN:VEVENT
DTSTART;TZID=America/Chicago:20260720T163000
DTEND;TZID=America/Chicago:20260720T190000
DTSTAMP:20260424T093343
CREATED:20251021T231133Z
LAST-MODIFIED:20251021T231133Z
UID:10000755-1784565000-1784574000@midlandteencourt.net
SUMMARY:Court Session
DESCRIPTION:Check-in begins at 4:30 PM | Court begins at 5:00 PM \nRemember and follow the Dress Code: \n\nNo derogatory or inappropriate t-shirts\nNo shorts\nNo ripped jeans\nNo sweat pants\nNo halter tops\, tank tops\, spaghetti straps or bare midriffs\nNo hats\nAppearance should be neat and clean\nSkirts or dresses should be no shorter than 3 inches above the knee\nPants must not be worn lower than the waist\n\nCell phones must be powered off and turned in. They will be returned at the end of the night. \nExemplary behavior is required.
URL:https://midlandteencourt.net/event/court-session-79/
LOCATION:TX
CATEGORIES:Court Sessions
END:VEVENT
BEGIN:VEVENT
DTSTART;TZID=America/Chicago:20260727T163000
DTEND;TZID=America/Chicago:20260727T190000
DTSTAMP:20260424T093343
CREATED:20251021T231231Z
LAST-MODIFIED:20251021T231231Z
UID:10000756-1785169800-1785178800@midlandteencourt.net
SUMMARY:Court Session
DESCRIPTION:Check-in begins at 4:30 PM | Court begins at 5:00 PM \nRemember and follow the Dress Code: \n\nNo derogatory or inappropriate t-shirts\nNo shorts\nNo ripped jeans\nNo sweat pants\nNo halter tops\, tank tops\, spaghetti straps or bare midriffs\nNo hats\nAppearance should be neat and clean\nSkirts or dresses should be no shorter than 3 inches above the knee\nPants must not be worn lower than the waist\n\nCell phones must be powered off and turned in. They will be returned at the end of the night. \nExemplary behavior is required.
URL:https://midlandteencourt.net/event/court-session-80/
LOCATION:TX
CATEGORIES:Court Sessions
END:VEVENT
END:VCALENDAR