BEGIN:VCALENDAR
VERSION:2.0
PRODID:-//Midland Teen Court - ECPv6.15.11//NONSGML v1.0//EN
CALSCALE:GREGORIAN
METHOD:PUBLISH
X-ORIGINAL-URL:https://midlandteencourt.net
X-WR-CALDESC:Events for Midland Teen Court
REFRESH-INTERVAL;VALUE=DURATION:PT1H
X-Robots-Tag:noindex
X-PUBLISHED-TTL:PT1H
BEGIN:VTIMEZONE
TZID:UTC
BEGIN:STANDARD
TZOFFSETFROM:+0000
TZOFFSETTO:+0000
TZNAME:UTC
DTSTART:20250101T000000
END:STANDARD
END:VTIMEZONE
BEGIN:VEVENT
DTSTART;TZID=UTC:20260427T163000
DTEND;TZID=UTC:20260427T190000
DTSTAMP:20260422T073103
CREATED:20250507T185731Z
LAST-MODIFIED:20250507T185731Z
UID:10000597-1777307400-1777316400@midlandteencourt.net
SUMMARY:Court Session
DESCRIPTION:Check-in begins at 4:30 PM | Court begins at 5:00 PM \nRemember and follow the Dress Code: \n\nNo derogatory or inappropriate t-shirts\nNo shorts\nNo ripped jeans\nNo sweat pants\nNo halter tops\, tank tops\, spaghetti straps or bare midriffs\nNo hats\nAppearance should be neat and clean\nSkirts or dresses should be no shorter than 3 inches above the knee\nPants must not be worn lower than the waist\n\nCell phones must be powered off and turned in. They will be returned at the end of the night. \nExemplary behavior is required.
URL:https://midlandteencourt.net/event/court-session-71/
LOCATION:Midland County Courthouse\, 500 N. Loraine\, Midland\, TX\, 79701\, United States
CATEGORIES:Court Sessions
END:VEVENT
END:VCALENDAR